BEGIN:VCALENDAR
VERSION:2.0
PRODID:-//The Spark Group Asia - ECPv6.15.20//NONSGML v1.0//EN
CALSCALE:GREGORIAN
METHOD:PUBLISH
X-WR-CALNAME:The Spark Group Asia
X-ORIGINAL-URL:https://thesparkgroup.asia
X-WR-CALDESC:Events for The Spark Group Asia
REFRESH-INTERVAL;VALUE=DURATION:PT1H
X-Robots-Tag:noindex
X-PUBLISHED-TTL:PT1H
BEGIN:VTIMEZONE
TZID:Asia/Kuala_Lumpur
BEGIN:STANDARD
TZOFFSETFROM:+0800
TZOFFSETTO:+0800
TZNAME:+08
DTSTART:20190101T000000
END:STANDARD
END:VTIMEZONE
BEGIN:VEVENT
DTSTART;TZID=Asia/Kuala_Lumpur:20200603T160000
DTEND;TZID=Asia/Kuala_Lumpur:20200603T170000
DTSTAMP:20260424T233827
CREATED:20200602T030211Z
LAST-MODIFIED:20200611T011344Z
UID:8053-1591200000-1591203600@thesparkgroup.asia
SUMMARY:Online LIVE - Resilient Entrepreneurship LIVE Asia - Mr. Oprah & The ECO-Couple
DESCRIPTION:?[The Resilient Entrepreneurship Live Asia Series]?\nIntroducing The Resilient Entrepreneurship Live Asia Interview with Mr. Oprah & The ECO-Couple! Live Session with Q&A. \n\nVyasa\, also known as Mr. Oprah – has never done a FB Live in his life\, and during MCO became the King of Interviews\, mirroring his biggest role model (guess who)\, and TRIPLED his followers and fans on Facebook and LinkedIn\, in the short 3 months! \nThe ECO-Couple\, Vernon & Jinn – built an amazing milestone for themselves by shifting from selling biodegradable\, eco-friendly products\, to launching their content marketing campaigns on Facebook\, YouTube\, and began putting together their long-awaited dream of developing their Eco-Kids Program! \n\nYou will discover: \n\nInterviewing Skills that Can Help my Content Marketing\nHow to Get Amazing People Interviewed on your Show\nOvercoming Adversity through Stronger Choices in Business & Life\nPlaybook Strategies of Shifting from Reasons to Results in Difficult Times\n\nDuring this unique time\, we have seen and heard many horror stories for business owners & entrepreneurs\, as they deal with Covid19 & the lockdown\, but there are also many amazing stories \nJoin us as we share REAL STORIES of AMAZING ENTREPRENEURS who have made the best of unusual times to grow their businesses. \nLimited ticket! Register NOW!
URL:https://thesparkgroup.asia/event/online-resilient-entrepreneurship-live-asia-series/
CATEGORIES:Conference
ATTACH;FMTTYPE=image/jpeg:https://thesparkgroup.asia/wp-content/uploads/2020/06/Resilience-Entrepreneurship-Live-Asia-Series-20200603-Eventbrite.jpg
ORGANIZER;CN="The Spark Group Asia":MAILTO:hello@thesparkgroup.asia
END:VEVENT
BEGIN:VEVENT
DTSTART;TZID=Asia/Kuala_Lumpur:20200522T110000
DTEND;TZID=Asia/Kuala_Lumpur:20200522T120000
DTSTAMP:20260424T233827
CREATED:20200519T073316Z
LAST-MODIFIED:20200611T010850Z
UID:7959-1590145200-1590148800@thesparkgroup.asia
SUMMARY:Online LIVE - Getting Your Employees to Speak Up
DESCRIPTION:✨ Getting Your Employees to Speak Up ?\nSpeaker: Maresa Ng \nMaresa has spoken on many global stages\, where she has helped leaders & entrepreneurs to turn around their business and leadership. \nHere’s what you will learn: \n\nCommunication Obstacles that Get in the Way\nLeadership Cues to Empower Employees to Communicate Effectively \nIdentify Different Strategies for Different Employees\n\nJoin us as she shares critical insights that every leader should know in building a SUPERSTAR team.\nRegister Here! To watch this session LIVE!
URL:https://thesparkgroup.asia/event/online-live-getting-your-employees-to-speak-up/
CATEGORIES:Conference
ATTACH;FMTTYPE=image/jpeg:https://thesparkgroup.asia/wp-content/uploads/2020/05/Getting-Your-Employees-to-Speak-Up.jpg
ORGANIZER;CN="The Spark Group Asia":MAILTO:hello@thesparkgroup.asia
END:VEVENT
BEGIN:VEVENT
DTSTART;TZID=Asia/Kuala_Lumpur:20200519T100000
DTEND;TZID=Asia/Kuala_Lumpur:20200519T110000
DTSTAMP:20260424T233827
CREATED:20200519T013851Z
LAST-MODIFIED:20200602T043920Z
UID:7949-1589882400-1589886000@thesparkgroup.asia
SUMMARY:Online LIVE - Know Your Leadership Intelligence
DESCRIPTION:✨ Know Your Leadership Intelligence ?\nSpeaker: Maresa Ng \nMaresa has spoken on many global stages\, where she has helped leaders & entrepreneurs to turn around their business and leadership. \nHere’s what she will cover: \n\nLearn how to leaders make good decisions for self and others\nKnow what enables better initiative and execution for people in leadership positions\nIdentify the Importance of Knowing Yourself Thoroughly when You Lead\n\nJoin us as she shares critical insights that every leader should know in building a SUPERSTAR team.\nRegister Here! To watch this session LIVE!
URL:https://thesparkgroup.asia/event/online-live-know-your-leadership-intelligence/
CATEGORIES:Conference
ATTACH;FMTTYPE=image/jpeg:https://thesparkgroup.asia/wp-content/uploads/2020/05/Know-Your-Leadership-Intelligence-Facebook.jpg
ORGANIZER;CN="The Spark Group Asia":MAILTO:hello@thesparkgroup.asia
END:VEVENT
BEGIN:VEVENT
DTSTART;TZID=Asia/Kuala_Lumpur:20200424T103000
DTEND;TZID=Asia/Kuala_Lumpur:20200424T113000
DTSTAMP:20260424T233827
CREATED:20200423T071657Z
LAST-MODIFIED:20200423T071657Z
UID:7814-1587724200-1587727800@thesparkgroup.asia
SUMMARY:Online LIVE - Resilient Leadership LIVE Series - Jonathan Yabut
DESCRIPTION:Digital Recruitment & Employer Branding for Leaders & Entrepreneurs\nA special LIVE interview session with Jonathan Yabut\, The Apprentice Asia Winner and Millennial Guru.\n\nThis interview is on Digital Recruitment & Employer Branding\, and Jonathan has been training and advising businesses & MNCs for many years in attracting the best talent.\n\nJoin us as he shares critical insights that every employer\, business owner\, and human resource team\, should know in building a great team during the recession.\n\nHere are some of the topics we will cover:\n\nThe importance of digital recruitment & employer branding\, in getting the right talent.\nContent and information that goes into a Great Employer Brand Quick start tips and advice on building my employer brand.\nKey strategies in recruiting great new-age talent.\n\nREGISTER HERE to receive reminders to watch this session LIVE!!!
URL:https://thesparkgroup.asia/event/online-live-resilient-leadership-live-series-jonathan-yabut/
CATEGORIES:Conference
ATTACH;FMTTYPE=image/jpeg:https://thesparkgroup.asia/wp-content/uploads/2020/04/Resilience-Live-Interviews-20200424-Eventbrite.jpg
ORGANIZER;CN="The Spark Group Asia":MAILTO:hello@thesparkgroup.asia
END:VEVENT
BEGIN:VEVENT
DTSTART;TZID=Asia/Kuala_Lumpur:20200423T100000
DTEND;TZID=Asia/Kuala_Lumpur:20200423T230000
DTSTAMP:20260424T233827
CREATED:20200416T073150Z
LAST-MODIFIED:20200423T070051Z
UID:7750-1587636000-1587682800@thesparkgroup.asia
SUMMARY:Online LIVE - How To Ready My Team & My Business Post Covid-19
DESCRIPTION:(Mandarin Version)\nThe Leadership & Business Resilience LIVE SERIES\nHow to Ready My Team & My Business Post COVID-19?\n\nWhat must change about Business & Revenue Models to Pivot and Rise from the possible recession?\nWhat must leaders do to prepare the management and executive team for it?\nWhat can you do as an Entrepreneur and Business Owners in Asia to be more Resilient post-COVID-19?\n\nCatch our LIVE STREAMING SESSION from The Spark Group Asia with our invited panellists share their tips & strategies for going through and facing this adversity head-on.\n—-\n\nModerator:\n\nTan Ee Lin\, People Management & Human Resource\, Leadership Intelligence Coach\n\n\nInvited Panellist:\n\nGoay Chia Chia\, Video & Digital Marketing\, Leadership Intelligence Coach\nJessica Tan\, Systems & SOP Development\, Leadership Intelligence Coach\n\nRegister here to watch this session LIVE!!!
URL:https://thesparkgroup.asia/event/online-live-how-to-ready-myself-my-business-post-covid-19-2/
CATEGORIES:Conference
ATTACH;FMTTYPE=image/jpeg:https://thesparkgroup.asia/wp-content/uploads/2020/04/Live-Series-20200423-Eventbrite.jpg
ORGANIZER;CN="The Spark Group Asia":MAILTO:hello@thesparkgroup.asia
END:VEVENT
BEGIN:VEVENT
DTSTART;TZID=Asia/Kuala_Lumpur:20200421T160000
DTEND;TZID=Asia/Kuala_Lumpur:20200421T170000
DTSTAMP:20260424T233827
CREATED:20200416T072108Z
LAST-MODIFIED:20200421T064719Z
UID:7742-1587484800-1587488400@thesparkgroup.asia
SUMMARY:Online LIVE - How to Prepare My Team & My Business Post-COVID-19
DESCRIPTION:The Leadership & Business Resilience LIVE SERIES\nHow to Prepare My Team & My Business Post COVID-19?\n\nWhat must change about Business & Revenue Models to Pivot and Rise from the possible recession?\nWhat must leaders do to prepare the management and executive team for it?\n\nCatch our LIVE STREAMING SESSION from The Spark Group Asia with our invited panellists share their tips & strategies for going through and facing this adversity head-on.\n—-\n\nModerator:\n\nJeanne Ooi\, Team Development Specialist\, Leadership Intelligence Coach (Malaysia)\n\n\nInvited Panellist:\n\nFelicia\, Executive & Business Coach\, Engage & Grow (Singapore)\nMaresa Ng\, Business & Turnaround Strategist with The Spark Group Asia (Malaysia)\nAndrew Wong\, Business Strategist\, Co-Founder of E3 Hubs (Malaysia & Philippines)\n\nRegister here to watch this session LIVE!!!\n 
URL:https://thesparkgroup.asia/event/online-live-how-to-ready-myself-my-business-post-covid-19/
CATEGORIES:Conference
ATTACH;FMTTYPE=image/jpeg:https://thesparkgroup.asia/wp-content/uploads/2020/04/Live-Series-20200421-Eventbrite-1.jpg
ORGANIZER;CN="The Spark Group Asia":MAILTO:hello@thesparkgroup.asia
END:VEVENT
END:VCALENDAR