BEGIN:VCALENDAR
VERSION:2.0
PRODID:-//The Spark Group Asia - ECPv6.15.20//NONSGML v1.0//EN
CALSCALE:GREGORIAN
METHOD:PUBLISH
X-WR-CALNAME:The Spark Group Asia
X-ORIGINAL-URL:https://thesparkgroup.asia
X-WR-CALDESC:Events for The Spark Group Asia
REFRESH-INTERVAL;VALUE=DURATION:PT1H
X-Robots-Tag:noindex
X-PUBLISHED-TTL:PT1H
BEGIN:VTIMEZONE
TZID:Asia/Kuala_Lumpur
BEGIN:STANDARD
TZOFFSETFROM:+0800
TZOFFSETTO:+0800
TZNAME:+08
DTSTART:20220101T000000
END:STANDARD
END:VTIMEZONE
BEGIN:VEVENT
DTSTART;TZID=Asia/Kuala_Lumpur:20230720T143000
DTEND;TZID=Asia/Kuala_Lumpur:20230720T173000
DTSTAMP:20260425T071207
CREATED:20230623T085035Z
LAST-MODIFIED:20230705T064749Z
UID:11120-1689863400-1689874200@thesparkgroup.asia
SUMMARY:[WORKSHOP] Enabling the Coaching Skills In Leaders
DESCRIPTION:COACHING is an ESSENTIAL SKILL that all leaders MUST HAVE.\nWhy Coaching Matters \n⭐️ Coaching is a skill that empowers employees to perform beyond just DOING\n⭐️ Coaching creates growth that is driven by a whole team\, not just a handful of performers\n ⭐️ Coaching is a leadership skill. Beyond management skills\, growing leaders requires coaching skills\n⭐️ Coaching requires you to understand people; that’s what ALL great leaders are\, they understand their people’s strengths & struggles \nSpeaker: William Wong \nWilliam Wong is very passionate about bridging generation gaps\, fostering inclusive work culture\, and promoting effective communication among leaders. \n=================\nThis workshop suitable for:\n=================\n CEOs\, Business Owners\, Entrepreneurs\n C-suite leaders\, People in leadership positions in the company (with at least 1-2 employees to lead)\n Businesses in service\, professional-based\, retail\, franchisor teams\, and manufacturing \nSeats are limited\, Lock in your seat early!\n \n\nLet’s hear it from our past participants! \n“I found it very interesting and the speaker is excellent. The topic is quite beneficial to me. I learned about how I can teach and coach my team. I also learned to motivate myself and the team. I have more knowledge to lead myself and the team better than before.” ~ Zarif\, Branch Manager of a Therapy & Special Education Centre \n“Throughout the workshop\, the informative sharing sparked thoughts & ideas that I can now propose and discuss with my team. Now I know how we can improve our operations to run more smoothly & systematically.” ~ Jinn\, Business Owner
URL:https://thesparkgroup.asia/event/workshop-enabling-the-coaching-skills-in-leaders-3/
LOCATION:Sunway Nexis\, Sunway Nexis\, 1\, Jalan PJU 5/1\, Kota Damansara\, 47810 Petaling Jaya\, Selangor\, Petaling Jaya\, Selangor\, 47810\, Malaysia
CATEGORIES:Event,Training,Workshop
ATTACH;FMTTYPE=image/png:https://thesparkgroup.asia/wp-content/uploads/2023/06/FB-Event-William-Workshop-1.png
ORGANIZER;CN="The Spark Group Asia":MAILTO:hello@thesparkgroup.asia
END:VEVENT
BEGIN:VEVENT
DTSTART;TZID=Asia/Kuala_Lumpur:20230728T143000
DTEND;TZID=Asia/Kuala_Lumpur:20230728T173000
DTSTAMP:20260425T071207
CREATED:20230711T010929Z
LAST-MODIFIED:20230711T011415Z
UID:11280-1690554600-1690565400@thesparkgroup.asia
SUMMARY:[WORKSHOP] Empowering the Future of Leadership
DESCRIPTION:Unlock Your Leadership Potential\, Adapt to Emerging Trends\, And Lead Your Teams with Confidence and Success.\nDuring this interactive workshop\, you will: \n\nGain insight into the Changing Dynamics of the future workforce and understand how to Engage and Motivate the next generation of employees.\nDevelop essential Emotional Intelligence and Empathy Skills to create an inclusive work environment that fosters collaboration\, diversity\, and creativity.\nCultivate Agile and Adaptive Leadership Skills to navigate uncertainties\, embrace change\, and lead your teams through transformation.\n\n Join Us For An Engaging and Transformative Workshop Designed to Empower Leaders  Like You\n\nSeats are limited\, Lock in your seat early!\n \n\nLet’s hear it from our past participants! \n“I found it very interesting and the speaker is excellent. The topic is quite beneficial to me. I learned about how I can teach and coach my team. I also learned to motivate myself and the team. I have more knowledge to lead myself and the team better than before.” ~ Zarif\, Branch Manager of a Therapy & Special Education Centre \n“Throughout the workshop\, the informative sharing sparked thoughts & ideas that I can now propose and discuss with my team. Now I know how we can improve our operations to run more smoothly & systematically.” ~ Jinn\, Business Owner \n 
URL:https://thesparkgroup.asia/event/workshop-empowering-the-future-of-leadership/
LOCATION:Sunway Nexis\, Sunway Nexis\, 1\, Jalan PJU 5/1\, Kota Damansara\, 47810 Petaling Jaya\, Selangor\, Petaling Jaya\, Selangor\, 47810\, Malaysia
CATEGORIES:Event,Training,Workshop
ATTACH;FMTTYPE=image/png:https://thesparkgroup.asia/wp-content/uploads/2023/07/FB-Event-Workshop-Empower.png
ORGANIZER;CN="The Spark Group Asia":MAILTO:hello@thesparkgroup.asia
END:VEVENT
END:VCALENDAR