BEGIN:VCALENDAR
VERSION:2.0
PRODID:-//The Spark Group Asia - ECPv6.15.20//NONSGML v1.0//EN
CALSCALE:GREGORIAN
METHOD:PUBLISH
X-ORIGINAL-URL:https://thesparkgroup.asia
X-WR-CALDESC:Events for The Spark Group Asia
REFRESH-INTERVAL;VALUE=DURATION:PT1H
X-Robots-Tag:noindex
X-PUBLISHED-TTL:PT1H
BEGIN:VTIMEZONE
TZID:Asia/Kuala_Lumpur
BEGIN:STANDARD
TZOFFSETFROM:+0800
TZOFFSETTO:+0800
TZNAME:+08
DTSTART:20220101T000000
END:STANDARD
END:VTIMEZONE
BEGIN:VEVENT
DTSTART;TZID=Asia/Kuala_Lumpur:20230921T090000
DTEND;TZID=Asia/Kuala_Lumpur:20230922T180000
DTSTAMP:20260425T034119
CREATED:20230623T093251Z
LAST-MODIFIED:20230705T064834Z
UID:11122-1695286800-1695405600@thesparkgroup.asia
SUMMARY:SPARK Foundation: Coach Foundation Program (CFP)
DESCRIPTION:[HRDC Claimable Leadership Training Program]\n🟣 Preamble:\nThis program is designed to introduce and cultivate the skill of coaching in managers and leaders to increase the levels of engagement and performance in their teams \nDuration: 2 full-day training \nLearning Format: Role-play\, Practice\, Group Work \n  \n🟣 Learning Points Gained: \n1. Cultivate a Coaching Mindset to groom and Bring Out The Potential of your team members \n2. Understand and Work With Different Types Of People \n3. Influence and create Better Engagement with stakeholders \n4. Learn Relevant Tools to understand how your team members Think and Behave \n5. Enable Accountability and Momentum in engaging a team of people \n  \n🟣 Program Outline:\nSession 1: Enabling Change and Transformation                                 \n\nUnderstand the psychology of the people in creating change\nHow to enable sustainable long- term changes in a team\n\nSession 2: Leadership Intelligence for Managers  \n\nUnderstand your behaviors that lead to effective leadership\nLearn how to lead and coach people through behavioral changes\n\nSession 3: Effective Coaching in Your Team  \n\nHow to coach using the right communication tools\nLearn the formula of coaching highly engaged and empowered employees\n\nSession 4: Coaching Leadership Intelligence with AccuMatch  \n\nA deeper dive into the full spectrum of leadership behaviors\nA coaching clinic – practice how to lead and coach people through behavioral changes\n\n  \n🟣 This program comes with:\n\nA customized 26-page Leadership Intelligence Assessment Report\nProgram Workbook\nCertificate of Participation\n\nJoin our Program to become an Aspiring Leader!\n**Inhouse program available\, please contact us for more info. \n \n\n✨ Here’s what some of our clients have said ✨\n“Great inspiring coaching. Love to have more of such program as the sessions were never boring. I learned to have proper tools and know-how techniques to groom and have a succession plan for my team.”  ~ Grace\, Finance Director \n“This program really relates to the real life on how to be a good coach. Most of the steps showed are very practical and can be implemented immediately in the workplace/business.” ~ Izlina\, Managing Director
URL:https://thesparkgroup.asia/event/spark-foundation-coach-foundation-program-cfp-6/
LOCATION:The Spark Group Asia HQ\, Sunway Nexis Office Suites\, Petaling Jaya\, Selangor\, 47810\, Malaysia
CATEGORIES:Training,Workshop
ATTACH;FMTTYPE=image/png:https://thesparkgroup.asia/wp-content/uploads/2021/03/CFP.png
ORGANIZER;CN="The Spark Group Asia":MAILTO:hello@thesparkgroup.asia
END:VEVENT
BEGIN:VEVENT
DTSTART;TZID=Asia/Kuala_Lumpur:20230927T143000
DTEND;TZID=Asia/Kuala_Lumpur:20230927T160000
DTSTAMP:20260425T034119
CREATED:20230816T071121Z
LAST-MODIFIED:20230816T072212Z
UID:11468-1695825000-1695830400@thesparkgroup.asia
SUMMARY:[FREE WEBINAR] Enabling the Coaching Skills In Leaders
DESCRIPTION:Want to have a High Performing Team?\nYou got to learn how to be a Coach first…\nYou will experience more open & driven energy in your team. \nDone well\, your team will be building your business harder than you! \nSpeaker: Coach Sunnie Toh \nSunnie is a Leadership Intelligence Coach that highly passionate to help all her clients uncover their fullest potential\, particularly in the advancement of People Skills\, Self-Confident\, and Mindset through coaching. \n=================\nKey Takeways:\n================= \n⭐️5 Steps to Auto-Pilot your Team…\n⭐️Major Boo-Boos Leaders make in “leading” their team (without learning to Coach)\n ⭐️What Coaching your Team IS\, and IS NOT (understanding the difference will save you a high employee turnover)\n⭐️Learn the 9 Core-Skills of Coaching and Practical Strategies to Execute in your Business\n⭐️ Discover How to Develop People based on STRENGTHS\, not Weaknesses\n⭐️ Get Tools & Resources to Simplify and INCREASE Employee Engagement through Coaching Them! \n=================\nThis workshop suitable for:\n=================\n CEOs\, Business Owners\, Entrepreneurs\n C-suite leaders\, People in leadership positions in the company (with at least 1-2 employees to lead)\n Businesses in service\, professional-based\, retail\, franchisor teams\, and manufacturing \nSeats are limited\, Lock in your seat early!\n \n\nLet’s hear it from our past participants! \n“I found it very interesting and the speaker is excellent. The topic is quite beneficial to me. I learned about how I can teach and coach my team. I also learned to motivate myself and the team. I have more knowledge to lead myself and the team better than before.” ~ Zarif\, Branch Manager of a Therapy & Special Education Centre \n“Throughout the workshop\, the informative sharing sparked thoughts & ideas that I can now propose and discuss with my team. Now I know how we can improve our operations to run more smoothly & systematically.” ~ Jinn\, Business Owner
URL:https://thesparkgroup.asia/event/webinar-enabling-the-coaching-skills-in-leaders-2/
LOCATION:Selangor
CATEGORIES:Event,Training
ATTACH;FMTTYPE=image/jpeg:https://thesparkgroup.asia/wp-content/uploads/2023/08/JPEG-FBEEVENT-Sunnie-Webinar.jpg
ORGANIZER;CN="The Spark Group Asia":MAILTO:hello@thesparkgroup.asia
END:VEVENT
END:VCALENDAR