BEGIN:VCALENDAR
VERSION:2.0
PRODID:-//The Spark Group Asia - ECPv6.15.20//NONSGML v1.0//EN
CALSCALE:GREGORIAN
METHOD:PUBLISH
X-ORIGINAL-URL:https://thesparkgroup.asia
X-WR-CALDESC:Events for The Spark Group Asia
REFRESH-INTERVAL;VALUE=DURATION:PT1H
X-Robots-Tag:noindex
X-PUBLISHED-TTL:PT1H
BEGIN:VTIMEZONE
TZID:Asia/Kuala_Lumpur
BEGIN:STANDARD
TZOFFSETFROM:+0800
TZOFFSETTO:+0800
TZNAME:+08
DTSTART:20220101T000000
END:STANDARD
END:VTIMEZONE
BEGIN:VEVENT
DTSTART;TZID=Asia/Kuala_Lumpur:20231122T150000
DTEND;TZID=Asia/Kuala_Lumpur:20231122T163000
DTSTAMP:20260425T001205
CREATED:20231107T005400Z
LAST-MODIFIED:20231107T005900Z
UID:11677-1700665200-1700670600@thesparkgroup.asia
SUMMARY:FREE WEBINAR] Mastering The Art of Communication
DESCRIPTION:[Mastering The Art of Communication]\nIn today’s fast-paced world\, the Art of Communication 🗣️ is essential. \nEffective communication bridges gaps\, fosters collaboration\, and empowers individuals in both personal and professional spheres. \nDuring this powerful webinar\, you will: \n\nDiscover the Key Communication Issues at the Workplace\nBasic Strategies & Tools to Effectively Communicate with your Team\nUnderstand the Psychology of People\, and how to Communicate with Influence\nLearn how to get Results by Communicating with many Different types of People\nThe Power of Connecting with Others\, versus Communicating\n\n  \nThis webinar suitable for:\n================= \n\nCEOs\, Business Owners\, Entrepreneurs\nC-suite Leaders\, People in leadership positions in the company\nSenior Managers\, and new Managers\nBusinesses in Service\, Technology\, Manufacturing and Professional Services\n\nSeats are limited\, Lock in your seat early!\n \n\nLet’s hear it from our past participants! \n“I found it very interesting and the speaker is excellent. The topic is quite beneficial to me. I learned about how I can teach and coach my team. I also learned to motivate myself and the team. I have more knowledge to lead myself and the team better than before.” ~ Zarif\, Branch Manager of a Therapy & Special Education Centre \n“Throughout the workshop\, the informative sharing sparked thoughts & ideas that I can now propose and discuss with my team. Now I know how we can improve our operations to run more smoothly & systematically.” ~ Jinn\, Business Owner
URL:https://thesparkgroup.asia/event/free-webinar-mastering-the-art-of-communication-3/
LOCATION:Selangor
CATEGORIES:Event,Training,Workshop
ATTACH;FMTTYPE=image/png:https://thesparkgroup.asia/wp-content/uploads/2023/11/FB-Event-Mastering-the-Art-of-Communication.png
ORGANIZER;CN="The Spark Group Asia":MAILTO:hello@thesparkgroup.asia
END:VEVENT
END:VCALENDAR