BEGIN:VCALENDAR
VERSION:2.0
PRODID:-//The Spark Group Asia - ECPv6.15.20//NONSGML v1.0//EN
CALSCALE:GREGORIAN
METHOD:PUBLISH
X-ORIGINAL-URL:https://thesparkgroup.asia
X-WR-CALDESC:Events for The Spark Group Asia
REFRESH-INTERVAL;VALUE=DURATION:PT1H
X-Robots-Tag:noindex
X-PUBLISHED-TTL:PT1H
BEGIN:VTIMEZONE
TZID:Asia/Kuala_Lumpur
BEGIN:STANDARD
TZOFFSETFROM:+0800
TZOFFSETTO:+0800
TZNAME:+08
DTSTART:20230101T000000
END:STANDARD
END:VTIMEZONE
BEGIN:VEVENT
DTSTART;TZID=Asia/Kuala_Lumpur:20240710T140000
DTEND;TZID=Asia/Kuala_Lumpur:20240710T180000
DTSTAMP:20260424T103632
CREATED:20240605T025014Z
LAST-MODIFIED:20240806T101206Z
UID:12439-1720620000-1720634400@thesparkgroup.asia
SUMMARY:CEO's Playbook: 6Ps to Profitability & Productivity
DESCRIPTION:Preamble:\nThis workshop equips you (business owners and founders) to change the way you look at your business\, and how you unlock its full potential. \nDuration: Half-day workshop \n  \nLearning Points Gained:\n\nDefine Your Leadership Compass\nBuild High-Performing Teams\nEnable Better Strategic Planning\nBoost Team Productivity\n\n  \nThe Key Advantages:\n\nGain a clear roadmap for your business growth\, guided by purpose and strategic planning.\nDevelop a culture of highly engaged and productive employees.\nAchieve measurable results with time-saving tools and strategies.\nBuild a foundation for long-term success and competitive advantage.\n\n  \n \n\n✨ Here’s what some of our clients have said ✨\n\n“Personally\, I have known Maresa since she started her coaching journey\, Over the past 10 years\, she has proven (with her own company growth results) her capability of growing a company with the right business\, sales\, & marketing strategies. I have been working together with ActionCOACH clients since 2010\, and I have observed her clients grow so well with her. More importantly\, I truly admire Maresa for upholding her professionalism\, the spirit of maintaining and raising delivery standards under any circumstance\, and never stopping driving herself toward continuous improvement and success. I treasure this\, and I would never hesitate to recommend my clients to her\, who are ready to work with a business coach.I value her as a business partner\, alliances\, and friend\, and I highly recommend Maresa and her team to anyone who needs a SERIOUS business coach. ~ Jessica Tan\, Manager”\n“Maresa is a very result-driven business coach who will ensure that you and your business are always on track to achieve your goals. Our company’s revenue skyrocketed from RM 3000 to an average of RM 500\,000 per month! That’s an increment of 16\,566 % !! ~ Izzah Haron\, Director“\n\n 
URL:https://thesparkgroup.asia/event/ceos-playbook-6ps-to-profitability-productivity/
LOCATION:The Spark Group Asia HQ\, Sunway Nexis Office Suites\, Petaling Jaya\, Selangor\, 47810\, Malaysia
CATEGORIES:Training,Workshop
ATTACH;FMTTYPE=image/jpeg:https://thesparkgroup.asia/wp-content/uploads/2024/05/side-view-female-financier-drawing-graphs-fair-haired-woman-holding-papers-with-financial-data-making-graphs-profit-growth-trends-with-chalk-board-market-trading-business-growth-concept-scaled.jpg
ORGANIZER;CN="The Spark Group Asia":MAILTO:hello@thesparkgroup.asia
END:VEVENT
END:VCALENDAR