BEGIN:VCALENDAR
VERSION:2.0
PRODID:-//The Spark Group Asia - ECPv6.15.20//NONSGML v1.0//EN
CALSCALE:GREGORIAN
METHOD:PUBLISH
X-ORIGINAL-URL:https://thesparkgroup.asia
X-WR-CALDESC:Events for The Spark Group Asia
REFRESH-INTERVAL;VALUE=DURATION:PT1H
X-Robots-Tag:noindex
X-PUBLISHED-TTL:PT1H
BEGIN:VTIMEZONE
TZID:Asia/Kuala_Lumpur
BEGIN:STANDARD
TZOFFSETFROM:+0800
TZOFFSETTO:+0800
TZNAME:+08
DTSTART:20230101T000000
END:STANDARD
END:VTIMEZONE
BEGIN:VEVENT
DTSTART;TZID=Asia/Kuala_Lumpur:20240321T123000
DTEND;TZID=Asia/Kuala_Lumpur:20240321T140000
DTSTAMP:20260425T215208
CREATED:20240319T004132Z
LAST-MODIFIED:20240515T063200Z
UID:12117-1711024200-1711029600@thesparkgroup.asia
SUMMARY:FREE WEBINAR] Mastering The Art of Communication
DESCRIPTION:[Mastering The Art of Communication]\nIn today’s fast-paced world\, the Art of Communication 🗣️ is essential. \nEffective communication bridges gaps\, fosters collaboration\, and empowers individuals in both personal and professional spheres. \nDuring this powerful webinar\, you will: \n\nDiscover the Key Communication Issues at the Workplace\nBasic Strategies & Tools to Effectively Communicate with your Team\nUnderstand the Psychology of People\, and how to Communicate with Influence\nLearn how to get Results by Communicating with many Different types of People\nThe Power of Connecting with Others\, versus Communicating\n\n  \nThis webinar suitable for:\n================= \n\nCEOs\, Business Owners\, Entrepreneurs\nC-suite Leaders\, People in leadership positions in the company\nSenior Managers\, and new Managers\nBusinesses in Service\, Technology\, Manufacturing and Professional Services\n\n\n \n\nLet’s hear it from our past participants! \n“I found it very interesting and the speaker is excellent. The topic is quite beneficial to me. I learned about how I can teach and coach my team. I also learned to motivate myself and the team. I have more knowledge to lead myself and the team better than before.” ~ Zarif\, Branch Manager of a Therapy & Special Education Centre \n“Throughout the workshop\, the informative sharing sparked thoughts & ideas that I can now propose and discuss with my team. Now I know how we can improve our operations to run more smoothly & systematically.” ~ Jinn\, Business Owner
URL:https://thesparkgroup.asia/event/free-webinar-mastering-the-art-of-communication-5/
CATEGORIES:Event,Training,Workshop
ATTACH;FMTTYPE=image/png:https://thesparkgroup.asia/wp-content/uploads/2024/03/FB-2024-SN-Communication.png
ORGANIZER;CN="The Spark Group Asia":MAILTO:hello@thesparkgroup.asia
END:VEVENT
BEGIN:VEVENT
DTSTART;TZID=Asia/Kuala_Lumpur:20240626T140000
DTEND;TZID=Asia/Kuala_Lumpur:20240626T150000
DTSTAMP:20260425T215208
CREATED:20240305T042535Z
LAST-MODIFIED:20240607T071620Z
UID:11943-1719410400-1719414000@thesparkgroup.asia
SUMMARY:[FREE WEBINAR] Enabling the Coaching Skills In Leaders
DESCRIPTION:Want to have a High Performing Team?\nYou got to learn how to be a Coach first…\nYou will experience more open & driven energy in your team. \nDone well\, your team will be building your business harder than you! \nSpeaker: Coach Nurulhuda \nNurulhuda is a Leadership Intelligence Coach known as someone who helps leaders to tap into their own strengths and capabilities to overcome challenges and achieve their desired results. \n=================\nKey Takeways:\n================= \n⭐️5 Steps to Auto-Pilot your Team…\n⭐️Major Boo-Boos Leaders make in “leading” their team (without learning to Coach)\n ⭐️What Coaching your Team IS\, and IS NOT (understanding the difference will save you a high employee turnover)\n⭐️Learn the 9 Core-Skills of Coaching and Practical Strategies to Execute in your Business\n⭐️ Discover How to Develop People based on STRENGTHS\, not Weaknesses\n⭐️ Get Tools & Resources to Simplify and INCREASE Employee Engagement through Coaching Them! \n=================\nThis workshop suitable for:\n=================\n CEOs\, Business Owners\, Entrepreneurs\n C-suite leaders\, People in leadership positions in the company (with at least 1-2 employees to lead)\n Businesses in service\, professional-based\, retail\, franchisor teams\, and manufacturing \n\n  \n\nLet’s hear it from our past participants! \n“I found it very interesting and the speaker is excellent. The topic is quite beneficial to me. I learned about how I can teach and coach my team. I also learned to motivate myself and the team. I have more knowledge to lead myself and the team better than before.” ~ Zarif\, Branch Manager of a Therapy & Special Education Centre \n“Throughout the workshop\, the informative sharing sparked thoughts & ideas that I can now propose and discuss with my team. Now I know how we can improve our operations to run more smoothly & systematically.” ~ Jinn\, Business Owner
URL:https://thesparkgroup.asia/event/free-webinar-enabling-the-coaching-skills-in-leaders-4/
CATEGORIES:Conference,Event,Training
ATTACH;FMTTYPE=image/png:https://thesparkgroup.asia/wp-content/uploads/2024/03/FB-2024-NH-Enabling-The-Coaching-Skills-1920-x-1080-px.png
ORGANIZER;CN="The Spark Group Asia":MAILTO:hello@thesparkgroup.asia
END:VEVENT
BEGIN:VEVENT
DTSTART;TZID=Asia/Kuala_Lumpur:20240710T140000
DTEND;TZID=Asia/Kuala_Lumpur:20240710T180000
DTSTAMP:20260425T215208
CREATED:20240605T025014Z
LAST-MODIFIED:20240806T101206Z
UID:12439-1720620000-1720634400@thesparkgroup.asia
SUMMARY:CEO's Playbook: 6Ps to Profitability & Productivity
DESCRIPTION:Preamble:\nThis workshop equips you (business owners and founders) to change the way you look at your business\, and how you unlock its full potential. \nDuration: Half-day workshop \n  \nLearning Points Gained:\n\nDefine Your Leadership Compass\nBuild High-Performing Teams\nEnable Better Strategic Planning\nBoost Team Productivity\n\n  \nThe Key Advantages:\n\nGain a clear roadmap for your business growth\, guided by purpose and strategic planning.\nDevelop a culture of highly engaged and productive employees.\nAchieve measurable results with time-saving tools and strategies.\nBuild a foundation for long-term success and competitive advantage.\n\n  \n \n\n✨ Here’s what some of our clients have said ✨\n\n“Personally\, I have known Maresa since she started her coaching journey\, Over the past 10 years\, she has proven (with her own company growth results) her capability of growing a company with the right business\, sales\, & marketing strategies. I have been working together with ActionCOACH clients since 2010\, and I have observed her clients grow so well with her. More importantly\, I truly admire Maresa for upholding her professionalism\, the spirit of maintaining and raising delivery standards under any circumstance\, and never stopping driving herself toward continuous improvement and success. I treasure this\, and I would never hesitate to recommend my clients to her\, who are ready to work with a business coach.I value her as a business partner\, alliances\, and friend\, and I highly recommend Maresa and her team to anyone who needs a SERIOUS business coach. ~ Jessica Tan\, Manager”\n“Maresa is a very result-driven business coach who will ensure that you and your business are always on track to achieve your goals. Our company’s revenue skyrocketed from RM 3000 to an average of RM 500\,000 per month! That’s an increment of 16\,566 % !! ~ Izzah Haron\, Director“\n\n 
URL:https://thesparkgroup.asia/event/ceos-playbook-6ps-to-profitability-productivity/
LOCATION:The Spark Group Asia HQ\, Sunway Nexis Office Suites\, Petaling Jaya\, Selangor\, 47810\, Malaysia
CATEGORIES:Training,Workshop
ATTACH;FMTTYPE=image/jpeg:https://thesparkgroup.asia/wp-content/uploads/2024/05/side-view-female-financier-drawing-graphs-fair-haired-woman-holding-papers-with-financial-data-making-graphs-profit-growth-trends-with-chalk-board-market-trading-business-growth-concept-scaled.jpg
ORGANIZER;CN="The Spark Group Asia":MAILTO:hello@thesparkgroup.asia
END:VEVENT
BEGIN:VEVENT
DTSTART;TZID=Asia/Kuala_Lumpur:20240813T090000
DTEND;TZID=Asia/Kuala_Lumpur:20240814T180000
DTSTAMP:20260425T215208
CREATED:20221108T084658Z
LAST-MODIFIED:20240610T065059Z
UID:10791-1723539600-1723658400@thesparkgroup.asia
SUMMARY:SPARK Matrix: The Leadership Matrix Program (TLM)
DESCRIPTION:[HRDC Claimable Leadership Training Program]\n🟧 Preamble:\nThis program is designed to enable leaders to generate positive and resourceful working relationships with others. \nThis unique training program works with leaders to discover their strengths and help them work in harmony with the people around them \nDuration: 2 full days of training \nLearning Format: Role-play\, Practice\, Group Work \n  \n🟧 Learning Point Gained:\n1. Provide CLARITY in developing the Potential Leader in you \n2. Enable POSITIVE working relationships with peers and employees\, and Generate Better Performance \n3. Understand how people are MOTIVATED\, and to perform better with Different Types of People \n  \n🟧 Program Outline:\nDay 1: Being a Successful Leader \n\nSuccessful Leadership Mindset\nApplying Change to Self\, before Others\nEnabling Sustainable & Long-lasting Change\nUnderstand the 8-part Leadership Matrix\nLearn Steps to being an Inspiring & Influential leader\n\nDay 2: Enabling the Influential Leader in You \n\nIdentify Skills & Competencies Critical for your Leadership Position\nIdentify Unresourceful Beliefs in Engaging your Employees\nRaising EQ Awareness in leading yourself and others\nDeepen Trust and Working Relationship Levels with your Employee\n\n🟧 The program comes with:\n\nProgram Workbook\nCertificate of Participation\n\nJoin this Program to Level-Up Your Leadership Skills!\n**In-house program is available\, contact us for more info!\n\n\n\n✨ Here’s what some of our clients have said ✨ \n“Whenever I lose FOCUS or not being PRESENT\, I discipline myself to be there\, especially when I am with my children. Now\, I MAKE MORE TIME and EFFORT to be PRESENT and FOCUSED when they talk to me.” ~ Zelda\, Business Owner & CEO
URL:https://thesparkgroup.asia/event/spark-matrix-the-leadership-matrix-program-tlm-4/
LOCATION:The Spark Group Asia HQ\, Sunway Nexis Office Suites\, Petaling Jaya\, Selangor\, 47810\, Malaysia
CATEGORIES:Training,Workshop
ATTACH;FMTTYPE=image/png:https://thesparkgroup.asia/wp-content/uploads/2021/03/TLM.png
ORGANIZER;CN="The Spark Group Asia":MAILTO:hello@thesparkgroup.asia
END:VEVENT
BEGIN:VEVENT
DTSTART;TZID=Asia/Kuala_Lumpur:20240816T103000
DTEND;TZID=Asia/Kuala_Lumpur:20240816T120000
DTSTAMP:20260425T215208
CREATED:20240322T011728Z
LAST-MODIFIED:20240729T064206Z
UID:12122-1723804200-1723809600@thesparkgroup.asia
SUMMARY:[FREE WEBINAR] Mastering The Art of Communication
DESCRIPTION:[Mastering The Art of Communication]\nIn today’s fast-paced world\, the Art of Communication 🗣️ is essential. \nEffective communication bridges gaps\, fosters collaboration\, and empowers individuals in both personal and professional spheres. \nDuring this powerful webinar\, you will: \n\nDiscover the Key Communication Issues at the Workplace\nBasic Strategies & Tools to Effectively Communicate with Your Team\nUnderstanding the Psychology of People\, and How to Communicate with Influence\nLearn how to get Results by Communicating with many Different types of People\nThe Power of Connecting with Others\, versus Communicating\n\n  \nThis webinar is suitable for:\n================= \n\nCEOs\, Business Owners\, Entrepreneurs\nC-suite Leaders\, People in leadership positions in the company\nSenior Managers\, and new Managers\nBusinesses in Service\, Technology\, Manufacturing\, and Professional Services\n\n  \n\n\n\n  \nLet’s hear it from our past participants! \n“I found it very interesting and the speaker is excellent. The topic is quite beneficial to me. I learned about how I can teach and coach my team. I also learned to motivate myself and the team. I have more knowledge to lead myself and the team better than before.” ~ Zarif\, Branch Manager of a Therapy & Special Education Centre \n“Throughout the workshop\, the informative sharing sparked thoughts & ideas that I can now propose and discuss with my team. Now I know how we can improve our operations to run more smoothly & systematically.” ~ Jinn\, Business Owner \n 
URL:https://thesparkgroup.asia/event/free-webinar-mastering-the-art-of-communication-6/
CATEGORIES:Event,Training,Workshop
ATTACH;FMTTYPE=image/png:https://thesparkgroup.asia/wp-content/uploads/2024/03/FB-2024-SN-Communication.png
ORGANIZER;CN="The Spark Group Asia":MAILTO:hello@thesparkgroup.asia
END:VEVENT
BEGIN:VEVENT
DTSTART;TZID=Asia/Kuala_Lumpur:20241002T090000
DTEND;TZID=Asia/Kuala_Lumpur:20241002T180000
DTSTAMP:20260425T215208
CREATED:20240606T023828Z
LAST-MODIFIED:20240626T074524Z
UID:12444-1727859600-1727892000@thesparkgroup.asia
SUMMARY:SPARK Sales: Mastering Communication for Sales (MCS)
DESCRIPTION:Preamble:\nThis comprehensive program goes beyond basic sales techniques. We equip your team with the communication skills to build rapport\, foster trust\, and develop long-term customer relationships. \nDuration: 1 full-day session \nLearning Format: Role-play\, Practice\, Group Work \n  \nKey Learning Points You’ll Gain:\n\nMasterful Engagement & Value Communication: Learn powerful techniques to captivate prospects\, build trust\, and effectively communicate the unique value your offering brings.\nBuilding Powerful Rapport: Discover the secrets to forging genuine connections with potential customers. Foster long-term relationships built on mutual understanding and trust.\nClosing More Deals with Confidence: Turn casual conversations into successful sales by harnessing the power of trust and connection. Learn to close deals with confidence and integrity.\n\n  \nThe program comes with:\n\nA customized 40-page DISC Report\nProgram Workbook\nCertificate of Participation\n\n  \nJoin our Program to become a Sales Communication Master!\n**In-house programs are available\, do get in touch with us for more information. \n \n\n✨ Here’s what some of our clients have said ✨\n“The training was well organized and fulfilled my expectations. This program enlightens me with some skills and techniques I can apply in real-life situations. I will apply the knowledge in my workplace. ~ Jamuna\, Regulatory Manager.” \n“The Spark Group Asia is a very professional training provider that gives us a safe space to learn! I love all the role-play sessions that allow me to put all the theories into practice. 😁 ~ Olive Ong\, Manager” \n“”
URL:https://thesparkgroup.asia/event/spark-sales-mastering-communication-for-sales-mcs/
LOCATION:The Spark Group Asia HQ\, Sunway Nexis Office Suites\, Petaling Jaya\, Selangor\, 47810\, Malaysia
CATEGORIES:Training,Workshop
ATTACH;FMTTYPE=image/jpeg:https://thesparkgroup.asia/wp-content/uploads/2024/05/workers-considering-term-agreement-1-scaled.jpg
ORGANIZER;CN="The Spark Group Asia":MAILTO:hello@thesparkgroup.asia
END:VEVENT
BEGIN:VEVENT
DTSTART;TZID=Asia/Kuala_Lumpur:20241016T090000
DTEND;TZID=Asia/Kuala_Lumpur:20241018T180000
DTSTAMP:20260425T215208
CREATED:20221108T091156Z
LAST-MODIFIED:20240610T065430Z
UID:10794-1729069200-1729274400@thesparkgroup.asia
SUMMARY:SPARK Mastery: Coaching Skills Mastery Program (CSM)
DESCRIPTION:[HRDC Claimable Leadership Training Program]\n🔴 Preamble: \nThe Coaching Skills Mastery is a practical workshop\, where participants must have the following program prerequisites\, (i) Coach Foundation Program\, (ii) The Leadership Matrix. This program utilizes a set of coaching skills benchmarks in 7 areas of coaching skills. \nDuration: 3 full-days session \nLearning Format: Role-play\, Practice\, Group Work \n  \n🔴 Learning Point Gained:\n1. Learn and practice 7 Coaching Skills \n2. Experience the Coaching Conversation as a coach and coachee \n3. Enabling and Practicing Coaching Standards on Self\, before applying to Others \n  \n🔴 Program Outline:\nSession 1: The Coach Leadership Matrix \n\nSuccessful Coach Mindset\nBuilding the Coach Leadership Identity & Matrix\n\nSession 2: Effective Listening & Supporting  \n\nEffective listening and supporting standards\nDiscover the myths of listening and supporting\n\nSession 3: Inducing & Enabling States  \n\nOwn state management\, match and mirror\nUsing frames to induce states\n\nSession 4: Asking Questions & Going Meta  \n\nThe Power of Asking Questions\nTypes of meta questions\n\nSession 5: The Art of Feedback  \n\nGiving receptive and effective feedback\nRoleplay a giving feedback conversation\n\nSession 6: The Coaching Conversation  \n\nPractice and roleplay the coaching conversation\n\n\n🔴The program comes with:\n\nProgram Workbook\nCertificate of Participation\n\nJoin this Program to become an Effective Coach!\n \n\n✨ Here’s what some of our clients have said ✨\n“I identified the problems which the business and I are having. I also saw the opportunity to solve it and achieve more in my life as well.” ~Josh\, Business Owner \n“I learned about how I can teach and coach my team. I have more knowledge to lead myself and team better than before.” ~ Zarif\, Branch Manager
URL:https://thesparkgroup.asia/event/spark-mastery-coaching-skills-mastery-program-csm-3/
LOCATION:The Spark Group Asia HQ\, Sunway Nexis Office Suites\, Petaling Jaya\, Selangor\, 47810\, Malaysia
CATEGORIES:Training,Workshop
ATTACH;FMTTYPE=image/png:https://thesparkgroup.asia/wp-content/uploads/2021/03/CSM.png
ORGANIZER;CN="The Spark Group Asia":MAILTO:hello@thesparkgroup.asia
END:VEVENT
BEGIN:VEVENT
DTSTART;TZID=Asia/Kuala_Lumpur:20260422T090000
DTEND;TZID=Asia/Kuala_Lumpur:20260423T180000
DTSTAMP:20260425T215208
CREATED:20240322T033457Z
LAST-MODIFIED:20260327T081323Z
UID:12128-1776848400-1776967200@thesparkgroup.asia
SUMMARY:Effective Leadership & Communication Mastery (ELCM)
DESCRIPTION:[HRDC Claimable Leadership Training Program]\nThis program is designed to equip leaders and entrepreneurs with personal self-discovery and effective leadership communication skills to achieve a productive team working environment. \nDuration: 2 full-day training \nLearning Format: Role-play\, Practice\, Group Work \n\n  \n🟣 Learning Points Gained:\n\n\nMotivate and engage different types of people through effective communication \n\n\nDevelop strong people skills to influence\, persuade\, and build trust \n\n\nUnderstand how your communication style impacts others \n\n\nLearn to communicate with clarity\, confidence\, and intention \n\n\nLead conversations that create positive change and stronger team alignment \n\n\n  \n\n🟣 Program Outline:\nSession 1: Effective Communication For Leaders                              \n\nTo understand the principles of good communication versus poor communication\nTo discover own communication profile and impact on others\n\nSession 2: Leadership Communication & Influence \n\nUncover subtle arts of persuasion and influence at work\nLearn impactful principles of Team Communication\n\n  \n\n🟣 This program comes with:\n\nA customized 40-page DISC Report\nProgram Workbook\nCertificate of Participation\n\n\nJoin our Program to become an Aspiring Leader!\n**In-house program available; please contact us for more info. \n  \n \n\n\n✨ Here’s what some of our clients have said. ✨\n“A course that helps you to identify yourself and others to facilitate effective communication. Using DISC to analyze and see different perspectives when communicating with others is very helpful.” – Ester \n“I discovered my DISC communication profile! The structure\, content\, and delivery of the training session were truly top-notch. My learning journey was enjoyable and fulfilling. Coach’s in-depth knowledge and her ability to simplify complex concepts have been invaluable to my learning journey.” – Azmi \n  \n  \n 
URL:https://thesparkgroup.asia/event/effective-leadership-communication-mastery-ecm/
LOCATION:The Spark Group Asia HQ\, Sunway Nexis Office Suites\, Petaling Jaya\, Selangor\, 47810\, Malaysia
CATEGORIES:Training,Workshop
ATTACH;FMTTYPE=image/jpeg:https://thesparkgroup.asia/wp-content/uploads/2023/07/Team-Communication2-scaled.jpg
ORGANIZER;CN="The Spark Group Asia":MAILTO:hello@thesparkgroup.asia
END:VEVENT
BEGIN:VEVENT
DTSTART;TZID=Asia/Kuala_Lumpur:20260520T090000
DTEND;TZID=Asia/Kuala_Lumpur:20260521T180000
DTSTAMP:20260425T215208
CREATED:20260327T062151Z
LAST-MODIFIED:20260327T081310Z
UID:13190-1779267600-1779386400@thesparkgroup.asia
SUMMARY:Effective Leadership & Communication Mastery (ELCM)
DESCRIPTION:[HRDC Claimable Leadership Training Program]\nThis program is designed to equip leaders and entrepreneurs with personal self-discovery and effective leadership communication skills to achieve a productive team working environment. \nDate: 20 – 21 May 2026 | Time: 9.00 am – 6.00 pm | Location: Kota Damansara\, Petaling Jaya \nDuration: 2 full-day training \nLearning Format: Role-play\, Practice\, Group Work \n\n\n🟣 Learning Points Gained:\n\nMotivate and engage different types of people through effective communication\nDevelop strong people skills to influence\, persuade\, and build trust\nUnderstand how your communication style impacts others\nLearn to communicate with clarity\, confidence\, and intention\nLead conversations that create positive change and stronger team alignment\n\n\n\n🟣 Program Outline:\nSession 1: Effective Communication For Leaders                              \n\nTo understand the principles of good communication versus poor communication\nTo discover own communication profile and impact on others\n\nSession 2: Leadership Communication & Influence \n\nUncover subtle arts of persuasion and influence at work\nLearn impactful principles of Team Communication\n\n\n\n🟣 This program comes with:\n\nA customized 40-page DISC Report\nProgram Workbook\nCertificate of Participation \n\n\n\nJoin our Program to become an Aspiring Leader!\n**In-house program available; please contact us for more info. \n \n\n\n✨ Here’s what some of our participants have said. ✨\n“A course that helps you to identify yourself and others to facilitate effective communication. Using DISC to analyze and see different perspectives when communicating with others is very helpful.” – Ester \n“I discovered my DISC communication profile! The structure\, content\, and delivery of the training session were truly top-notch. My learning journey was enjoyable and fulfilling. Coach’s in-depth knowledge and her ability to simplify complex concepts have been invaluable to my learning journey.” – Azmi \n“A good foundation to improve communication and leadership. I learned a lot about my own behaviors and how to adapt to others to achieve better communication outcomes.” – Nitahatiti \n“Very effective modules for communication & can help us to be better leaders. A lot of real-life case scenarios which is good. I really appreciated the real-life case scenarios and especially the ‘3A’ framework. The last step—Appreciate—stood out most. That reminder matters.” – Jerry
URL:https://thesparkgroup.asia/event/effective-leadership-communication-mastery-elcm/
LOCATION:The Spark Group Asia HQ\, Sunway Nexis Office Suites\, Petaling Jaya\, Selangor\, 47810\, Malaysia
CATEGORIES:Training,Workshop
ATTACH;FMTTYPE=image/jpeg:https://thesparkgroup.asia/wp-content/uploads/2023/07/Team-Communication-scaled.jpg
ORGANIZER;CN="The Spark Group Asia":MAILTO:hello@thesparkgroup.asia
END:VEVENT
BEGIN:VEVENT
DTSTART;TZID=Asia/Kuala_Lumpur:20260624T090000
DTEND;TZID=Asia/Kuala_Lumpur:20260625T180000
DTSTAMP:20260425T215208
CREATED:20240322T015320Z
LAST-MODIFIED:20260421T043617Z
UID:12126-1782291600-1782410400@thesparkgroup.asia
SUMMARY:Coach Foundation Program (CFP)
DESCRIPTION:[HRDC Claimable Leadership Training Program]\nAre you a manager or leader struggling to keep your team motivated and engaged? Burnout\, disengagement\, and low morale are signs that your team needs a different approach — and it starts with effective leadership and coaching skills. \nThe Coach Foundation Program equips managers and leaders with the tools and mindset to cultivate a more engaged\, accountable\, and high-performing team. \n 🟣Program Highlights:\nDate: 10 – 11 June 2026 | Time: 9.00 am – 6.00 pm | Location: Kota Damansara\, Petaling Jaya \nDuration: 2 full days \nLearning Format: Interactive role-play\, group work\, practical exercises \n\n🟣 Learning Points Gained:\n\nDevelop a Coaching Mindset to unlock your team’s potential\nRecognize and work with Different Personality Types and Behaviors\nInfluence and increase Employee Engagement and stakeholder collaboration\nUse proven tools to Understand How Your Team Thinks and Behaves\nEnable Accountability and Momentum in engaging a team of people\n\n\n🟣 Program Outline:\nSession 1: Enabling Change and Transformation                \n\nUnderstand the psychology of the people in creating change\nHow to enable sustainable long-term changes in a team\n\nSession 2: Leadership Intelligence for Managers\n\nUnderstand your behaviors that lead to effective leadership\nLearn how to lead and coach people through behavioral changes\n\nSession 3: Effective Coaching in Your Team\n\nHow to coach using the right communication tools\nLearn the formula for coaching highly engaged and empowered employees\n\nSession 4: Coaching Leadership Intelligence with GROW Model\n\nA deeper dive into the full spectrum of leadership behaviors\nA coaching clinic – practice how to lead and coach people through behavioral changes\n\n\n\n\n🟣 This program comes with:\n\nPersonalized 26-page Leadership Intelligence Assessment Report\nProgram workbook for reference and action planning\nCertificate of participation to showcase your development\n\nWho Should Attend: Managers and leaders seeking to build a more engaged\, capable\, and motivated team. \nJoin our Program to become an Aspiring Leader!\nIn-house sessions available. Contact us to schedule a requirement meeting. \n \n\n✨ Here’s what some of our clients have said. ✨\n“The learning experience met all my expectations. The objective was clear\, and the knowledge I gained was immediately applicable. If you’re struggling to become a better leader\, this is the BEST program for you! It helps you develop the right mindset and tools to move forward with clarity and purpose.” – Siti Hajar  \n“A good program for anyone looking to build their leadership skills. Not only do you learn things you didn’t know\, but you also learn to see the things you already know from a new perspective and how to effectively apply them. Additionally\, you get motivated throughout the course.” – Duke \n“This Coach Foundation Program is good if you’re willing to learn and realize things about yourself as a person and as a leader. I came out of this program feeling better about myself and ready to contribute more positive energy to my organization. Be it a better leader or just a better friend. This program is highly recommended.” – Muhammad Luqman \n“The AccuMatch profile helped me discover more about myself. I was impressed by how much the program covered in just two days. As someone who organizes training regularly\, I can say with confidence: the Coach Foundation Program is a must-know and must-share for any company.” – Fifi \n“This program gave me clarity on what it really takes to be a coach and a leader. I now feel better equipped with the skills and confidence to lead authentically. Most importantly\, it helped me face my fears and see the potential I didn’t realize I had. It was a truly transformative experience.“ – Ivy \n\n\n 
URL:https://thesparkgroup.asia/event/spark-foundation-coach-foundation-program-cfp-7/
LOCATION:The Spark Group Asia HQ\, Sunway Nexis Office Suites\, Petaling Jaya\, Selangor\, 47810\, Malaysia
CATEGORIES:Training,Workshop
ATTACH;FMTTYPE=image/png:https://thesparkgroup.asia/wp-content/uploads/2021/03/CFP.png
ORGANIZER;CN="The Spark Group Asia":MAILTO:hello@thesparkgroup.asia
END:VEVENT
END:VCALENDAR