BEGIN:VCALENDAR
VERSION:2.0
PRODID:-//The Spark Group Asia - ECPv6.15.20//NONSGML v1.0//EN
CALSCALE:GREGORIAN
METHOD:PUBLISH
X-ORIGINAL-URL:https://thesparkgroup.asia
X-WR-CALDESC:Events for The Spark Group Asia
REFRESH-INTERVAL;VALUE=DURATION:PT1H
X-Robots-Tag:noindex
X-PUBLISHED-TTL:PT1H
BEGIN:VTIMEZONE
TZID:Asia/Kuala_Lumpur
BEGIN:STANDARD
TZOFFSETFROM:+0800
TZOFFSETTO:+0800
TZNAME:+08
DTSTART:20250101T000000
END:STANDARD
END:VTIMEZONE
BEGIN:VEVENT
DTSTART;TZID=Asia/Kuala_Lumpur:20260422T090000
DTEND;TZID=Asia/Kuala_Lumpur:20260423T180000
DTSTAMP:20260420T152049
CREATED:20240322T033457Z
LAST-MODIFIED:20260327T081323Z
UID:12128-1776848400-1776967200@thesparkgroup.asia
SUMMARY:Effective Leadership & Communication Mastery (ELCM)
DESCRIPTION:[HRDC Claimable Leadership Training Program]\nThis program is designed to equip leaders and entrepreneurs with personal self-discovery and effective leadership communication skills to achieve a productive team working environment. \nDuration: 2 full-day training \nLearning Format: Role-play\, Practice\, Group Work \n\n  \n🟣 Learning Points Gained:\n\n\nMotivate and engage different types of people through effective communication \n\n\nDevelop strong people skills to influence\, persuade\, and build trust \n\n\nUnderstand how your communication style impacts others \n\n\nLearn to communicate with clarity\, confidence\, and intention \n\n\nLead conversations that create positive change and stronger team alignment \n\n\n  \n\n🟣 Program Outline:\nSession 1: Effective Communication For Leaders                              \n\nTo understand the principles of good communication versus poor communication\nTo discover own communication profile and impact on others\n\nSession 2: Leadership Communication & Influence \n\nUncover subtle arts of persuasion and influence at work\nLearn impactful principles of Team Communication\n\n  \n\n🟣 This program comes with:\n\nA customized 40-page DISC Report\nProgram Workbook\nCertificate of Participation\n\n\nJoin our Program to become an Aspiring Leader!\n**In-house program available; please contact us for more info. \n  \n \n\n\n✨ Here’s what some of our clients have said. ✨\n“A course that helps you to identify yourself and others to facilitate effective communication. Using DISC to analyze and see different perspectives when communicating with others is very helpful.” – Ester \n“I discovered my DISC communication profile! The structure\, content\, and delivery of the training session were truly top-notch. My learning journey was enjoyable and fulfilling. Coach’s in-depth knowledge and her ability to simplify complex concepts have been invaluable to my learning journey.” – Azmi \n  \n  \n 
URL:https://thesparkgroup.asia/event/effective-leadership-communication-mastery-ecm/
LOCATION:The Spark Group Asia HQ\, Sunway Nexis Office Suites\, Petaling Jaya\, Selangor\, 47810\, Malaysia
CATEGORIES:Training,Workshop
ATTACH;FMTTYPE=image/jpeg:https://thesparkgroup.asia/wp-content/uploads/2023/07/Team-Communication2-scaled.jpg
ORGANIZER;CN="The Spark Group Asia":MAILTO:hello@thesparkgroup.asia
END:VEVENT
BEGIN:VEVENT
DTSTART;TZID=Asia/Kuala_Lumpur:20260520T090000
DTEND;TZID=Asia/Kuala_Lumpur:20260521T180000
DTSTAMP:20260420T152049
CREATED:20260327T062151Z
LAST-MODIFIED:20260327T081310Z
UID:13190-1779267600-1779386400@thesparkgroup.asia
SUMMARY:Effective Leadership & Communication Mastery (ELCM)
DESCRIPTION:[HRDC Claimable Leadership Training Program]\nThis program is designed to equip leaders and entrepreneurs with personal self-discovery and effective leadership communication skills to achieve a productive team working environment. \nDate: 20 – 21 May 2026 | Time: 9.00 am – 6.00 pm | Location: Kota Damansara\, Petaling Jaya \nDuration: 2 full-day training \nLearning Format: Role-play\, Practice\, Group Work \n\n\n🟣 Learning Points Gained:\n\nMotivate and engage different types of people through effective communication\nDevelop strong people skills to influence\, persuade\, and build trust\nUnderstand how your communication style impacts others\nLearn to communicate with clarity\, confidence\, and intention\nLead conversations that create positive change and stronger team alignment\n\n\n\n🟣 Program Outline:\nSession 1: Effective Communication For Leaders                              \n\nTo understand the principles of good communication versus poor communication\nTo discover own communication profile and impact on others\n\nSession 2: Leadership Communication & Influence \n\nUncover subtle arts of persuasion and influence at work\nLearn impactful principles of Team Communication\n\n\n\n🟣 This program comes with:\n\nA customized 40-page DISC Report\nProgram Workbook\nCertificate of Participation \n\n\n\nJoin our Program to become an Aspiring Leader!\n**In-house program available; please contact us for more info. \n \n\n\n✨ Here’s what some of our participants have said. ✨\n“A course that helps you to identify yourself and others to facilitate effective communication. Using DISC to analyze and see different perspectives when communicating with others is very helpful.” – Ester \n“I discovered my DISC communication profile! The structure\, content\, and delivery of the training session were truly top-notch. My learning journey was enjoyable and fulfilling. Coach’s in-depth knowledge and her ability to simplify complex concepts have been invaluable to my learning journey.” – Azmi \n“A good foundation to improve communication and leadership. I learned a lot about my own behaviors and how to adapt to others to achieve better communication outcomes.” – Nitahatiti \n“Very effective modules for communication & can help us to be better leaders. A lot of real-life case scenarios which is good. I really appreciated the real-life case scenarios and especially the ‘3A’ framework. The last step—Appreciate—stood out most. That reminder matters.” – Jerry
URL:https://thesparkgroup.asia/event/effective-leadership-communication-mastery-elcm/
LOCATION:The Spark Group Asia HQ\, Sunway Nexis Office Suites\, Petaling Jaya\, Selangor\, 47810\, Malaysia
CATEGORIES:Training,Workshop
ATTACH;FMTTYPE=image/jpeg:https://thesparkgroup.asia/wp-content/uploads/2023/07/Team-Communication-scaled.jpg
ORGANIZER;CN="The Spark Group Asia":MAILTO:hello@thesparkgroup.asia
END:VEVENT
BEGIN:VEVENT
DTSTART;TZID=Asia/Kuala_Lumpur:20260610T090000
DTEND;TZID=Asia/Kuala_Lumpur:20260611T180000
DTSTAMP:20260420T152049
CREATED:20240322T015320Z
LAST-MODIFIED:20260327T074841Z
UID:12126-1781082000-1781200800@thesparkgroup.asia
SUMMARY:Coach Foundation Program (CFP)
DESCRIPTION:[HRDC Claimable Leadership Training Program]\nAre you a manager or leader struggling to keep your team motivated and engaged? Burnout\, disengagement\, and low morale are signs that your team needs a different approach — and it starts with effective leadership and coaching skills. \nThe Coach Foundation Program equips managers and leaders with the tools and mindset to cultivate a more engaged\, accountable\, and high-performing team. \n 🟣Program Highlights:\nDate: 10 – 11 June 2026 | Time: 9.00 am – 6.00 pm | Location: Kota Damansara\, Petaling Jaya \nDuration: 2 full days \nLearning Format: Interactive role-play\, group work\, practical exercises \n\n🟣 Learning Points Gained:\n\nDevelop a Coaching Mindset to unlock your team’s potential\nRecognize and work with Different Personality Types and Behaviors\nInfluence and increase Employee Engagement and stakeholder collaboration\nUse proven tools to Understand How Your Team Thinks and Behaves\nEnable Accountability and Momentum in engaging a team of people\n\n\n🟣 Program Outline:\nSession 1: Enabling Change and Transformation                \n\nUnderstand the psychology of the people in creating change\nHow to enable sustainable long-term changes in a team\n\nSession 2: Leadership Intelligence for Managers\n\nUnderstand your behaviors that lead to effective leadership\nLearn how to lead and coach people through behavioral changes\n\nSession 3: Effective Coaching in Your Team\n\nHow to coach using the right communication tools\nLearn the formula for coaching highly engaged and empowered employees\n\nSession 4: Coaching Leadership Intelligence with GROW Model\n\nA deeper dive into the full spectrum of leadership behaviors\nA coaching clinic – practice how to lead and coach people through behavioral changes\n\n\n\n\n🟣 This program comes with:\n\nPersonalized 26-page Leadership Intelligence Assessment Report\nProgram workbook for reference and action planning\nCertificate of participation to showcase your development\n\nWho Should Attend: Managers and leaders seeking to build a more engaged\, capable\, and motivated team. \nJoin our Program to become an Aspiring Leader!\nIn-house sessions available. Contact us to schedule a requirement meeting. \n \n\n✨ Here’s what some of our clients have said. ✨\n“The learning experience met all my expectations. The objective was clear\, and the knowledge I gained was immediately applicable. If you’re struggling to become a better leader\, this is the BEST program for you! It helps you develop the right mindset and tools to move forward with clarity and purpose.” – Siti Hajar  \n“A good program for anyone looking to build their leadership skills. Not only do you learn things you didn’t know\, but you also learn to see the things you already know from a new perspective and how to effectively apply them. Additionally\, you get motivated throughout the course.” – Duke \n“This Coach Foundation Program is good if you’re willing to learn and realize things about yourself as a person and as a leader. I came out of this program feeling better about myself and ready to contribute more positive energy to my organization. Be it a better leader or just a better friend. This program is highly recommended.” – Muhammad Luqman \n“The AccuMatch profile helped me discover more about myself. I was impressed by how much the program covered in just two days. As someone who organizes training regularly\, I can say with confidence: the Coach Foundation Program is a must-know and must-share for any company.” – Fifi \n“This program gave me clarity on what it really takes to be a coach and a leader. I now feel better equipped with the skills and confidence to lead authentically. Most importantly\, it helped me face my fears and see the potential I didn’t realize I had. It was a truly transformative experience.“ – Ivy \n\n\n 
URL:https://thesparkgroup.asia/event/spark-foundation-coach-foundation-program-cfp-7/
LOCATION:The Spark Group Asia HQ\, Sunway Nexis Office Suites\, Petaling Jaya\, Selangor\, 47810\, Malaysia
CATEGORIES:Training,Workshop
ATTACH;FMTTYPE=image/png:https://thesparkgroup.asia/wp-content/uploads/2021/03/CFP.png
ORGANIZER;CN="The Spark Group Asia":MAILTO:hello@thesparkgroup.asia
END:VEVENT
END:VCALENDAR